BEGIN:VCALENDAR
VERSION:2.0
PRODID:-//Carmelo Blandino - ECPv6.2.5//NONSGML v1.0//EN
CALSCALE:GREGORIAN
METHOD:PUBLISH
X-ORIGINAL-URL:https://carmeloblandino.jasonmayry.com
X-WR-CALDESC:Events for Carmelo Blandino
REFRESH-INTERVAL;VALUE=DURATION:PT1H
X-Robots-Tag:noindex
X-PUBLISHED-TTL:PT1H
BEGIN:VTIMEZONE
TZID:UTC
BEGIN:STANDARD
TZOFFSETFROM:+0000
TZOFFSETTO:+0000
TZNAME:UTC
DTSTART:20150101T000000
END:STANDARD
END:VTIMEZONE
BEGIN:VEVENT
DTSTART;VALUE=DATE:20160201
DTEND;VALUE=DATE:20160301
DTSTAMP:20260421T125001
CREATED:20230709T171041Z
LAST-MODIFIED:20230709T171041Z
UID:245-1454284800-1456790399@carmeloblandino.jasonmayry.com
SUMMARY:Book signing and lecture
DESCRIPTION:Book signing and lecture in Naples\, Florida
URL:https://carmeloblandino.jasonmayry.com/event/book-signing-and-lecture/
LOCATION:TBA
END:VEVENT
BEGIN:VEVENT
DTSTART;TZID=UTC:20160127T080000
DTEND;TZID=UTC:20160420T170000
DTSTAMP:20260421T125001
CREATED:20230709T171227Z
LAST-MODIFIED:20230709T171227Z
UID:248-1453881600-1461171600@carmeloblandino.jasonmayry.com
SUMMARY:Florida Contemporary - Exhibition
DESCRIPTION:Florida Contemporary – Exhibition
URL:https://carmeloblandino.jasonmayry.com/event/florida-contemporary-exhibition/
LOCATION:Baker Museum of Artis\, Naples\, FL\, United States
END:VEVENT
BEGIN:VEVENT
DTSTART;TZID=UTC:20151217T080000
DTEND;TZID=UTC:20151217T170000
DTSTAMP:20260421T125001
CREATED:20230709T170908Z
LAST-MODIFIED:20230709T170908Z
UID:242-1450339200-1450371600@carmeloblandino.jasonmayry.com
SUMMARY:Book signing and Workshop
DESCRIPTION:Book signing and Workshop
URL:https://carmeloblandino.jasonmayry.com/event/book-signing-and-workshop/
LOCATION:Aldrich Contemporary Art Museum
END:VEVENT
BEGIN:VEVENT
DTSTART;TZID=UTC:20151210T080000
DTEND;TZID=UTC:20151210T170000
DTSTAMP:20260421T125001
CREATED:20230709T170816Z
LAST-MODIFIED:20230709T170816Z
UID:239-1449734400-1449766800@carmeloblandino.jasonmayry.com
SUMMARY:Solo Exhibition
DESCRIPTION:Solo Exhibition
URL:https://carmeloblandino.jasonmayry.com/event/solo-exhibition/
LOCATION:Tew Gallery\, Atlanta\, GA\, United States
END:VEVENT
BEGIN:VEVENT
DTSTART;TZID=UTC:20151205T080000
DTEND;TZID=UTC:20151205T170000
DTSTAMP:20260421T125001
CREATED:20230709T170645Z
LAST-MODIFIED:20230709T170645Z
UID:236-1449302400-1449334800@carmeloblandino.jasonmayry.com
SUMMARY:Book Signing
DESCRIPTION:Book Signing
URL:https://carmeloblandino.jasonmayry.com/event/book-signing/
LOCATION:Coats Wright Design\, Carmel\, IN\, United States
END:VEVENT
END:VCALENDAR