BEGIN:VCALENDAR
VERSION:2.0
PRODID:-//Carmelo Blandino - ECPv6.2.5//NONSGML v1.0//EN
CALSCALE:GREGORIAN
METHOD:PUBLISH
X-WR-CALNAME:Carmelo Blandino
X-ORIGINAL-URL:https://carmeloblandino.jasonmayry.com
X-WR-CALDESC:Events for Carmelo Blandino
REFRESH-INTERVAL;VALUE=DURATION:PT1H
X-Robots-Tag:noindex
X-PUBLISHED-TTL:PT1H
BEGIN:VTIMEZONE
TZID:UTC
BEGIN:STANDARD
TZOFFSETFROM:+0000
TZOFFSETTO:+0000
TZNAME:UTC
DTSTART:20150101T000000
END:STANDARD
END:VTIMEZONE
BEGIN:VEVENT
DTSTART;TZID=UTC:20210711T080000
DTEND;TZID=UTC:20210711T170000
DTSTAMP:20260421T100327
CREATED:20210711T142923Z
LAST-MODIFIED:20210714T011221Z
UID:92-1625990400-1626022800@carmeloblandino.jasonmayry.com
SUMMARY:Clouds in the sky
DESCRIPTION:Of course he’s a happy little stone\, cause we don’t have any other kind. I’ll go over the colors one more time that we use: Titanium white\, Thalo green\, Prussian blue\, Van Dyke brown\, Alizarin crimson\, Sap green\, Cad yellow\, and Permanent red. Here’s another little happy bush I guess that would be considered a UFO. A big cotton ball in the sky. The very fact that you’re aware of suffering is enough reason to be overjoyed that you’re alive and can experience it. Those great big fluffy clouds.
URL:https://carmeloblandino.jasonmayry.com/event/clouds-in-the-sky/
LOCATION:Method & Concept\, Naples\, FL\, United States
CATEGORIES:painting,thinking
END:VEVENT
BEGIN:VEVENT
DTSTART;TZID=UTC:20210702T080000
DTEND;TZID=UTC:20210702T170000
DTSTAMP:20260421T100327
CREATED:20210702T001857Z
LAST-MODIFIED:20210714T013339Z
UID:75-1625212800-1625245200@carmeloblandino.jasonmayry.com
SUMMARY:Flowers in the park
DESCRIPTION:Of course he’s a happy little stone\, cause we don’t have any other kind. I’ll go over the colors one more time that we use: Titanium white\, Thalo green\, Prussian blue\, Van Dyke brown\, Alizarin crimson\, Sap green\, Cad yellow\, and Permanent red. Here’s another little happy bush I guess that would be considered a UFO. A big cotton ball in the sky. The very fact that you’re aware of suffering is enough reason to be overjoyed that you’re alive and can experience it. Those great big fluffy clouds.
URL:https://carmeloblandino.jasonmayry.com/event/flowers-in-the-park/
LOCATION:Somewhere over the rainbow
END:VEVENT
BEGIN:VEVENT
DTSTART;VALUE=DATE:20190415
DTEND;VALUE=DATE:20190418
DTSTAMP:20260421T100327
CREATED:20230709T180437Z
LAST-MODIFIED:20230709T180437Z
UID:295-1555286400-1555545599@carmeloblandino.jasonmayry.com
SUMMARY:Portraits Workshop
DESCRIPTION:Register: www.blandinomasterworkshops.com / Contact Susan Enos at: sueetlou1@aol.com for more information. \nNaples\, FL
URL:https://carmeloblandino.jasonmayry.com/event/portraits-workshop/
END:VEVENT
BEGIN:VEVENT
DTSTART;VALUE=DATE:20190408
DTEND;VALUE=DATE:20190413
DTSTAMP:20260421T100327
CREATED:20230709T180521Z
LAST-MODIFIED:20230709T180521Z
UID:297-1554681600-1555113599@carmeloblandino.jasonmayry.com
SUMMARY:Blossoms Workshop
DESCRIPTION:Naples\, FL / Register: www.blandinomasterworkshops.com / Contact Susan Enos at: sueetlou1@aol.com for more information.
URL:https://carmeloblandino.jasonmayry.com/event/blossoms-workshop/
END:VEVENT
BEGIN:VEVENT
DTSTART;VALUE=DATE:20190325
DTEND;VALUE=DATE:20190330
DTSTAMP:20260421T100327
CREATED:20230709T180604Z
LAST-MODIFIED:20230709T180604Z
UID:299-1553472000-1553903999@carmeloblandino.jasonmayry.com
SUMMARY:Blossoms Workshop
DESCRIPTION:Naples\, FL / Contact Susan Enos at: sueetlou1@aol.com for more information or to be put on a waiting list (sign up is presently full)
URL:https://carmeloblandino.jasonmayry.com/event/blossoms-workshop-2/
END:VEVENT
BEGIN:VEVENT
DTSTART;VALUE=DATE:20190320
DTEND;VALUE=DATE:20190622
DTSTAMP:20260421T100327
CREATED:20230709T180335Z
LAST-MODIFIED:20230709T180335Z
UID:292-1553040000-1561161599@carmeloblandino.jasonmayry.com
SUMMARY:Solo Exhibition
DESCRIPTION:Solo Exhibition
URL:https://carmeloblandino.jasonmayry.com/event/solo-exhibition-3/
LOCATION:Brenau University Museum\, Gainsville\, GA\, United States
END:VEVENT
BEGIN:VEVENT
DTSTART;TZID=UTC:20190308T080000
DTEND;TZID=UTC:20190311T170000
DTSTAMP:20260421T100327
CREATED:20230709T180636Z
LAST-MODIFIED:20230709T180636Z
UID:301-1552032000-1552323600@carmeloblandino.jasonmayry.com
SUMMARY:Figurative Workshop
DESCRIPTION:Naples\, FL / Contact Susan Enos at: sueetlou1@aol.comfor more information or to be put on a waiting list (sign up is presently full)  .
URL:https://carmeloblandino.jasonmayry.com/event/figurative-workshop/
END:VEVENT
BEGIN:VEVENT
DTSTART;VALUE=DATE:20190225
DTEND;VALUE=DATE:20190302
DTSTAMP:20260421T100327
CREATED:20230709T180735Z
LAST-MODIFIED:20230709T180735Z
UID:303-1551052800-1551484799@carmeloblandino.jasonmayry.com
SUMMARY:Figurative Workshop
DESCRIPTION:Naples\, FL / Register: www.blandinomasterworkshops.com / Contact Susan Enos at: sueetlou1@aol.com for more information.
URL:https://carmeloblandino.jasonmayry.com/event/figurative-workshop-2/
END:VEVENT
BEGIN:VEVENT
DTSTART;TZID=UTC:20190209T080000
DTEND;TZID=UTC:20190211T170000
DTSTAMP:20260421T100327
CREATED:20230709T180835Z
LAST-MODIFIED:20230709T180835Z
UID:305-1549699200-1549904400@carmeloblandino.jasonmayry.com
SUMMARY:Portraits Workshop
DESCRIPTION:Naples\, FL / Contact Susan Enos at: sueetlou1@aol.com for more information or to be put on a waiting list (sign up is presently full)
URL:https://carmeloblandino.jasonmayry.com/event/portraits-workshop-2/
END:VEVENT
BEGIN:VEVENT
DTSTART;VALUE=DATE:20180409
DTEND;VALUE=DATE:20180414
DTSTAMP:20260421T100328
CREATED:20230709T180152Z
LAST-MODIFIED:20230709T180152Z
UID:290-1523232000-1523663999@carmeloblandino.jasonmayry.com
SUMMARY:Figurative Painting Workshop
DESCRIPTION:See ‘Workshops” for registration or contact Susan Enos at: sueetlou1@aol.com for more information.  Limited Space Available.
URL:https://carmeloblandino.jasonmayry.com/event/figurative-painting-workshop/
LOCATION:Center for the Arts\, Bonita Springs\, FL\, United States
END:VEVENT
BEGIN:VEVENT
DTSTART;VALUE=DATE:20180326
DTEND;VALUE=DATE:20180331
DTSTAMP:20260421T100328
CREATED:20230709T180108Z
LAST-MODIFIED:20230709T180108Z
UID:288-1522022400-1522454399@carmeloblandino.jasonmayry.com
SUMMARY:Blossoms Flowers Workshop
DESCRIPTION:Contact Susan Enos at: sueetlou1@aol.com for information or to be put on a waiting list (sign up is presently full)
URL:https://carmeloblandino.jasonmayry.com/event/blossoms-flowers-workshop/
LOCATION:Center for the Arts\, Bonita Springs\, FL\, United States
END:VEVENT
BEGIN:VEVENT
DTSTART;TZID=UTC:20180215T130000
DTEND;TZID=UTC:20180323T170000
DTSTAMP:20260421T100328
CREATED:20230709T175959Z
LAST-MODIFIED:20230709T175959Z
UID:285-1518699600-1521824400@carmeloblandino.jasonmayry.com
SUMMARY:Solo Exhibition
DESCRIPTION:Artist in Residence: duration of Exhibition
URL:https://carmeloblandino.jasonmayry.com/event/solo-exhibition-2/
LOCATION:Thomas Riley Studio\, 26 10th St.\, South Naples\, FL\, United States
END:VEVENT
BEGIN:VEVENT
DTSTART;TZID=UTC:20180206T173000
DTEND;TZID=UTC:20180206T200000
DTSTAMP:20260421T100328
CREATED:20230709T175743Z
LAST-MODIFIED:20230709T175743Z
UID:281-1517938200-1517947200@carmeloblandino.jasonmayry.com
SUMMARY:Artist Talk
DESCRIPTION:RSVP: Eventbrite  https://www.eventbrite.com/e/carmelo-blandino-artist-talk-at-the-naples-botanical-garden
URL:https://carmeloblandino.jasonmayry.com/event/artist-talk/
LOCATION:Naples Botanical Garden\, United States
END:VEVENT
BEGIN:VEVENT
DTSTART;VALUE=DATE:20180126
DTEND;VALUE=DATE:20180130
DTSTAMP:20260421T100328
CREATED:20230709T175505Z
LAST-MODIFIED:20230709T175505Z
UID:279-1516924800-1517270399@carmeloblandino.jasonmayry.com
SUMMARY:Portrait Workshop
DESCRIPTION:Contact Susan Enos at: sueetlou1@aol.com for information or to be put on a waiting list (sign up is presently full)
URL:https://carmeloblandino.jasonmayry.com/event/portrait-workshop/
LOCATION:Center for the Arts\, Bonita Springs\, FL\, United States
END:VEVENT
BEGIN:VEVENT
DTSTART;TZID=UTC:20171023T080000
DTEND;TZID=UTC:20171027T170000
DTSTAMP:20260421T100328
CREATED:20230709T175405Z
LAST-MODIFIED:20230709T175405Z
UID:276-1508745600-1509123600@carmeloblandino.jasonmayry.com
SUMMARY:Workshop - Painting Flowers in Acrylics
DESCRIPTION:For more information:  info@artescapeitaly
URL:https://carmeloblandino.jasonmayry.com/event/workshop-painting-flowers-in-acrylics/
LOCATION:Art Escape Italy\, Lucca\, Italy
END:VEVENT
BEGIN:VEVENT
DTSTART;TZID=UTC:20170327T080000
DTEND;TZID=UTC:20170331T170000
DTSTAMP:20260421T100328
CREATED:20230709T175216Z
LAST-MODIFIED:20230709T175216Z
UID:274-1490601600-1490979600@carmeloblandino.jasonmayry.com
SUMMARY:5 day intensive painting workshop
DESCRIPTION:5 day intensive painting workshop
URL:https://carmeloblandino.jasonmayry.com/event/5-day-intensive-painting-workshop-2/
LOCATION:Center for the Arts\, Bonita Springs\, FL\, United States
END:VEVENT
BEGIN:VEVENT
DTSTART;VALUE=DATE:20170202
DTEND;VALUE=DATE:20170203
DTSTAMP:20260421T100328
CREATED:20230709T175129Z
LAST-MODIFIED:20230709T175129Z
UID:272-1485993600-1486079999@carmeloblandino.jasonmayry.com
SUMMARY:Receiving Honor from The United Arts Council of Southwest Florida
DESCRIPTION:
URL:https://carmeloblandino.jasonmayry.com/event/receiving-honor-from-the-united-arts-council-of-southwest-florida/
END:VEVENT
BEGIN:VEVENT
DTSTART;VALUE=DATE:20170128
DTEND;VALUE=DATE:20170202
DTSTAMP:20260421T100328
CREATED:20230709T175059Z
LAST-MODIFIED:20230709T175059Z
UID:269-1485561600-1485993599@carmeloblandino.jasonmayry.com
SUMMARY:5 day intensive drawing workshop
DESCRIPTION:Limited Space still available / Contact Susan Enos at: sueetlou1@aol.com for information
URL:https://carmeloblandino.jasonmayry.com/event/5-day-intensive-drawing-workshop/
LOCATION:Center for the Arts\, Bonita Springs\, FL\, United States
END:VEVENT
BEGIN:VEVENT
DTSTART;VALUE=DATE:20160926
DTEND;VALUE=DATE:20161001
DTSTAMP:20260421T100328
CREATED:20230709T174943Z
LAST-MODIFIED:20230709T174943Z
UID:266-1474848000-1475279999@carmeloblandino.jasonmayry.com
SUMMARY:5 day intensive painting workshop
DESCRIPTION:Limited Space still available / Contact Susan Enos at sueetlou1@aol.com for information
URL:https://carmeloblandino.jasonmayry.com/event/5-day-intensive-painting-workshop/
LOCATION:South Salem\, NY\, South Salem\, NY\, United States
END:VEVENT
BEGIN:VEVENT
DTSTART;VALUE=DATE:20160923
DTEND;VALUE=DATE:20160924
DTSTAMP:20260421T100328
CREATED:20230709T174635Z
LAST-MODIFIED:20230709T174635Z
UID:263-1474588800-1474675199@carmeloblandino.jasonmayry.com
SUMMARY:Book Signing and Lecture
DESCRIPTION:Book Signing and Lecture
URL:https://carmeloblandino.jasonmayry.com/event/book-signing-and-lecture-3/
LOCATION:Peabody Interiors\, 8655 N Deerwood Dr.\, Milwaukee\, WI\, 53209\, United States
END:VEVENT
BEGIN:VEVENT
DTSTART;VALUE=DATE:20160801
DTEND;VALUE=DATE:20160901
DTSTAMP:20260421T100328
CREATED:20230709T174439Z
LAST-MODIFIED:20230709T174439Z
UID:260-1470009600-1472687999@carmeloblandino.jasonmayry.com
SUMMARY:In studio creating limited edition etchings and monoprints
DESCRIPTION:Go to the Shop page to reserve and prepay for your own unique print! \ncarmeloblandino.com/pages/shop
URL:https://carmeloblandino.jasonmayry.com/event/in-studio-creating-limited-edition-etchings-and-monoprints/
LOCATION:Bleu Acier\, Tampa\, FL\, United States
END:VEVENT
BEGIN:VEVENT
DTSTART;VALUE=DATE:20160607
DTEND;VALUE=DATE:20160608
DTSTAMP:20260421T100328
CREATED:20230709T174216Z
LAST-MODIFIED:20230709T174228Z
UID:256-1465257600-1465343999@carmeloblandino.jasonmayry.com
SUMMARY:Book Signing and Lecture
DESCRIPTION:Book Signing and Lecture
URL:https://carmeloblandino.jasonmayry.com/event/book-signing-and-lecture-2/
LOCATION:FineMark National Bank\, 800 Laurel Oak Dr.\, Suite 100\, Naples\, FL\, 34108\, United States
END:VEVENT
BEGIN:VEVENT
DTSTART;TZID=UTC:20160514T180000
DTEND;TZID=UTC:20160514T210000
DTSTAMP:20260421T100328
CREATED:20230709T174020Z
LAST-MODIFIED:20230709T174020Z
UID:253-1463248800-1463259600@carmeloblandino.jasonmayry.com
SUMMARY:Book Signing and Exhibition of new works
DESCRIPTION:Book Signing and Exhibition of new works
URL:https://carmeloblandino.jasonmayry.com/event/book-signing-and-exhibition-of-new-works/
LOCATION:Galerie Sono\, South Norwalk\, CT\, United States
END:VEVENT
BEGIN:VEVENT
DTSTART;TZID=UTC:20160328T080000
DTEND;TZID=UTC:20230402T170000
DTSTAMP:20260421T100328
CREATED:20230709T171328Z
LAST-MODIFIED:20230709T171328Z
UID:251-1459152000-1680454800@carmeloblandino.jasonmayry.com
SUMMARY:5 day intensive workshop
DESCRIPTION:Contact Susan Enos at: sueetlou1@aol.com for information
URL:https://carmeloblandino.jasonmayry.com/event/5-day-intensive-workshop/
END:VEVENT
BEGIN:VEVENT
DTSTART;VALUE=DATE:20160201
DTEND;VALUE=DATE:20160301
DTSTAMP:20260421T100328
CREATED:20230709T171041Z
LAST-MODIFIED:20230709T171041Z
UID:245-1454284800-1456790399@carmeloblandino.jasonmayry.com
SUMMARY:Book signing and lecture
DESCRIPTION:Book signing and lecture in Naples\, Florida
URL:https://carmeloblandino.jasonmayry.com/event/book-signing-and-lecture/
LOCATION:TBA
END:VEVENT
BEGIN:VEVENT
DTSTART;TZID=UTC:20160127T080000
DTEND;TZID=UTC:20160420T170000
DTSTAMP:20260421T100328
CREATED:20230709T171227Z
LAST-MODIFIED:20230709T171227Z
UID:248-1453881600-1461171600@carmeloblandino.jasonmayry.com
SUMMARY:Florida Contemporary - Exhibition
DESCRIPTION:Florida Contemporary – Exhibition
URL:https://carmeloblandino.jasonmayry.com/event/florida-contemporary-exhibition/
LOCATION:Baker Museum of Artis\, Naples\, FL\, United States
END:VEVENT
BEGIN:VEVENT
DTSTART;TZID=UTC:20151217T080000
DTEND;TZID=UTC:20151217T170000
DTSTAMP:20260421T100328
CREATED:20230709T170908Z
LAST-MODIFIED:20230709T170908Z
UID:242-1450339200-1450371600@carmeloblandino.jasonmayry.com
SUMMARY:Book signing and Workshop
DESCRIPTION:Book signing and Workshop
URL:https://carmeloblandino.jasonmayry.com/event/book-signing-and-workshop/
LOCATION:Aldrich Contemporary Art Museum
END:VEVENT
BEGIN:VEVENT
DTSTART;TZID=UTC:20151210T080000
DTEND;TZID=UTC:20151210T170000
DTSTAMP:20260421T100328
CREATED:20230709T170816Z
LAST-MODIFIED:20230709T170816Z
UID:239-1449734400-1449766800@carmeloblandino.jasonmayry.com
SUMMARY:Solo Exhibition
DESCRIPTION:Solo Exhibition
URL:https://carmeloblandino.jasonmayry.com/event/solo-exhibition/
LOCATION:Tew Gallery\, Atlanta\, GA\, United States
END:VEVENT
BEGIN:VEVENT
DTSTART;TZID=UTC:20151205T080000
DTEND;TZID=UTC:20151205T170000
DTSTAMP:20260421T100328
CREATED:20230709T170645Z
LAST-MODIFIED:20230709T170645Z
UID:236-1449302400-1449334800@carmeloblandino.jasonmayry.com
SUMMARY:Book Signing
DESCRIPTION:Book Signing
URL:https://carmeloblandino.jasonmayry.com/event/book-signing/
LOCATION:Coats Wright Design\, Carmel\, IN\, United States
END:VEVENT
END:VCALENDAR